BEGIN:VCALENDAR
VERSION:2.0
PRODID:-//MáraiKult - ECPv6.15.20//NONSGML v1.0//EN
CALSCALE:GREGORIAN
METHOD:PUBLISH
X-WR-CALNAME:MáraiKult
X-ORIGINAL-URL:https://maraikult.hu
X-WR-CALDESC:Események MáraiKult
REFRESH-INTERVAL;VALUE=DURATION:PT1H
X-Robots-Tag:noindex
X-PUBLISHED-TTL:PT1H
BEGIN:VTIMEZONE
TZID:Europe/Budapest
BEGIN:DAYLIGHT
TZOFFSETFROM:+0100
TZOFFSETTO:+0200
TZNAME:CEST
DTSTART:20250330T010000
END:DAYLIGHT
BEGIN:STANDARD
TZOFFSETFROM:+0200
TZOFFSETTO:+0100
TZNAME:CET
DTSTART:20251026T010000
END:STANDARD
BEGIN:DAYLIGHT
TZOFFSETFROM:+0100
TZOFFSETTO:+0200
TZNAME:CEST
DTSTART:20260329T010000
END:DAYLIGHT
BEGIN:STANDARD
TZOFFSETFROM:+0200
TZOFFSETTO:+0100
TZNAME:CET
DTSTART:20261025T010000
END:STANDARD
BEGIN:DAYLIGHT
TZOFFSETFROM:+0100
TZOFFSETTO:+0200
TZNAME:CEST
DTSTART:20270328T010000
END:DAYLIGHT
BEGIN:STANDARD
TZOFFSETFROM:+0200
TZOFFSETTO:+0100
TZNAME:CET
DTSTART:20271031T010000
END:STANDARD
END:VTIMEZONE
BEGIN:VEVENT
DTSTART;TZID=Europe/Budapest:20260428T093000
DTEND;TZID=Europe/Budapest:20260428T110000
DTSTAMP:20260426T020744
CREATED:20260401T104552Z
LAST-MODIFIED:20260401T104553Z
UID:10007957-1777368600-1777374000@maraikult.hu
SUMMARY:Kerekítő foglalkozás Dóczi-Gyumbier Timivel
DESCRIPTION:Kerekítő Mondókázó (0-3 év)Minden kedd 9:30-10:00 \n\n\n\n\n\nÖlbéli játékok a Kerekítő mondókáskönyv-sorozat játékai nyomán\, hangszerjátékkal\, dalokkal. Kalandozás a lovagoltatók\, csiklandozók\, reptetők\, cirókázók\, lógáztatók világában. Nagymamáinktól örökölt játéktárunk az érzelmi biztonság és a művészeti nevelés bölcsője. Az első évek mondókáinak szeretetnyelve az érintés\, ölelés és mosoly egy életen át elkíséri a gyermekeket. \n\n\n\n\n\nKerekítő Manó Torna (1-3 év) Minden kedd 10:15-11:00 \n\n\n\n\n\nÖlbéli játékok a Kerekítő mondókáskönyv-sorozat játékai nyomán\, Kerekítő Manó bábjelenetivel\, labdás ejtőernyőzéssel és tornaszeres játéktérrel tarkítva. Nagymamáinktól örökölt játéktárunk az érzelmi biztonság és a művészeti nevelés bölcsője. Az első évek mondókáinak szeretetnyelve az érintés\, ölelés és mosoly egy életen át elkíséri a gyermekeket. \n\n\n\nVezeti: Dóczi-Gyumbier Timi \nElérhetőség\, bejelentkezés: timea.gyumbier@gmail.com –  www.kerekito.hu \n\n\n\nA csoportokhoz folyamatosan lehet csatlakozni. \n\n\n\nÓrajegy ára\, kedvezmények:3000 Ft/ alkalom/ család13 000 Ft/ 5 alkalom/ család \n\n\n\n\n\n\n\nA programváltoztatás jogát fenntartjuk.
URL:https://maraikult.hu/esemeny/kerekito-foglalkozas-doczi-gyumbier-timivel-3-2-2-3-2-2/2026-04-28/
LOCATION:Márai Sándor Művelődési Ház\, 1013 Budapest\, Krisztina tér 1.
CATEGORIES:Márai Sándor Művelődési Ház
ATTACH;FMTTYPE=image/webp:https://maraikult.hu/wp-content/uploads/2025/04/kerekito.webp
END:VEVENT
BEGIN:VEVENT
DTSTART;TZID=Europe/Budapest:20260505T093000
DTEND;TZID=Europe/Budapest:20260505T110000
DTSTAMP:20260426T020744
CREATED:20260401T104552Z
LAST-MODIFIED:20260401T104553Z
UID:10007958-1777973400-1777978800@maraikult.hu
SUMMARY:Kerekítő foglalkozás Dóczi-Gyumbier Timivel
DESCRIPTION:Kerekítő Mondókázó (0-3 év)Minden kedd 9:30-10:00 \n\n\n\n\n\nÖlbéli játékok a Kerekítő mondókáskönyv-sorozat játékai nyomán\, hangszerjátékkal\, dalokkal. Kalandozás a lovagoltatók\, csiklandozók\, reptetők\, cirókázók\, lógáztatók világában. Nagymamáinktól örökölt játéktárunk az érzelmi biztonság és a művészeti nevelés bölcsője. Az első évek mondókáinak szeretetnyelve az érintés\, ölelés és mosoly egy életen át elkíséri a gyermekeket. \n\n\n\n\n\nKerekítő Manó Torna (1-3 év) Minden kedd 10:15-11:00 \n\n\n\n\n\nÖlbéli játékok a Kerekítő mondókáskönyv-sorozat játékai nyomán\, Kerekítő Manó bábjelenetivel\, labdás ejtőernyőzéssel és tornaszeres játéktérrel tarkítva. Nagymamáinktól örökölt játéktárunk az érzelmi biztonság és a művészeti nevelés bölcsője. Az első évek mondókáinak szeretetnyelve az érintés\, ölelés és mosoly egy életen át elkíséri a gyermekeket. \n\n\n\nVezeti: Dóczi-Gyumbier Timi \nElérhetőség\, bejelentkezés: timea.gyumbier@gmail.com –  www.kerekito.hu \n\n\n\nA csoportokhoz folyamatosan lehet csatlakozni. \n\n\n\nÓrajegy ára\, kedvezmények:3000 Ft/ alkalom/ család13 000 Ft/ 5 alkalom/ család \n\n\n\n\n\n\n\nA programváltoztatás jogát fenntartjuk.
URL:https://maraikult.hu/esemeny/kerekito-foglalkozas-doczi-gyumbier-timivel-3-2-2-3-2-2/2026-05-05/
LOCATION:Márai Sándor Művelődési Ház\, 1013 Budapest\, Krisztina tér 1.
CATEGORIES:Márai Sándor Művelődési Ház
ATTACH;FMTTYPE=image/webp:https://maraikult.hu/wp-content/uploads/2025/04/kerekito.webp
END:VEVENT
BEGIN:VEVENT
DTSTART;TZID=Europe/Budapest:20260512T093000
DTEND;TZID=Europe/Budapest:20260512T110000
DTSTAMP:20260426T020744
CREATED:20260401T104552Z
LAST-MODIFIED:20260401T104553Z
UID:10007959-1778578200-1778583600@maraikult.hu
SUMMARY:Kerekítő foglalkozás Dóczi-Gyumbier Timivel
DESCRIPTION:Kerekítő Mondókázó (0-3 év)Minden kedd 9:30-10:00 \n\n\n\n\n\nÖlbéli játékok a Kerekítő mondókáskönyv-sorozat játékai nyomán\, hangszerjátékkal\, dalokkal. Kalandozás a lovagoltatók\, csiklandozók\, reptetők\, cirókázók\, lógáztatók világában. Nagymamáinktól örökölt játéktárunk az érzelmi biztonság és a művészeti nevelés bölcsője. Az első évek mondókáinak szeretetnyelve az érintés\, ölelés és mosoly egy életen át elkíséri a gyermekeket. \n\n\n\n\n\nKerekítő Manó Torna (1-3 év) Minden kedd 10:15-11:00 \n\n\n\n\n\nÖlbéli játékok a Kerekítő mondókáskönyv-sorozat játékai nyomán\, Kerekítő Manó bábjelenetivel\, labdás ejtőernyőzéssel és tornaszeres játéktérrel tarkítva. Nagymamáinktól örökölt játéktárunk az érzelmi biztonság és a művészeti nevelés bölcsője. Az első évek mondókáinak szeretetnyelve az érintés\, ölelés és mosoly egy életen át elkíséri a gyermekeket. \n\n\n\nVezeti: Dóczi-Gyumbier Timi \nElérhetőség\, bejelentkezés: timea.gyumbier@gmail.com –  www.kerekito.hu \n\n\n\nA csoportokhoz folyamatosan lehet csatlakozni. \n\n\n\nÓrajegy ára\, kedvezmények:3000 Ft/ alkalom/ család13 000 Ft/ 5 alkalom/ család \n\n\n\n\n\n\n\nA programváltoztatás jogát fenntartjuk.
URL:https://maraikult.hu/esemeny/kerekito-foglalkozas-doczi-gyumbier-timivel-3-2-2-3-2-2/2026-05-12/
LOCATION:Márai Sándor Művelődési Ház\, 1013 Budapest\, Krisztina tér 1.
CATEGORIES:Márai Sándor Művelődési Ház
ATTACH;FMTTYPE=image/webp:https://maraikult.hu/wp-content/uploads/2025/04/kerekito.webp
END:VEVENT
BEGIN:VEVENT
DTSTART;TZID=Europe/Budapest:20260519T093000
DTEND;TZID=Europe/Budapest:20260519T110000
DTSTAMP:20260426T020744
CREATED:20260401T104552Z
LAST-MODIFIED:20260401T104553Z
UID:10007960-1779183000-1779188400@maraikult.hu
SUMMARY:Kerekítő foglalkozás Dóczi-Gyumbier Timivel
DESCRIPTION:Kerekítő Mondókázó (0-3 év)Minden kedd 9:30-10:00 \n\n\n\n\n\nÖlbéli játékok a Kerekítő mondókáskönyv-sorozat játékai nyomán\, hangszerjátékkal\, dalokkal. Kalandozás a lovagoltatók\, csiklandozók\, reptetők\, cirókázók\, lógáztatók világában. Nagymamáinktól örökölt játéktárunk az érzelmi biztonság és a művészeti nevelés bölcsője. Az első évek mondókáinak szeretetnyelve az érintés\, ölelés és mosoly egy életen át elkíséri a gyermekeket. \n\n\n\n\n\nKerekítő Manó Torna (1-3 év) Minden kedd 10:15-11:00 \n\n\n\n\n\nÖlbéli játékok a Kerekítő mondókáskönyv-sorozat játékai nyomán\, Kerekítő Manó bábjelenetivel\, labdás ejtőernyőzéssel és tornaszeres játéktérrel tarkítva. Nagymamáinktól örökölt játéktárunk az érzelmi biztonság és a művészeti nevelés bölcsője. Az első évek mondókáinak szeretetnyelve az érintés\, ölelés és mosoly egy életen át elkíséri a gyermekeket. \n\n\n\nVezeti: Dóczi-Gyumbier Timi \nElérhetőség\, bejelentkezés: timea.gyumbier@gmail.com –  www.kerekito.hu \n\n\n\nA csoportokhoz folyamatosan lehet csatlakozni. \n\n\n\nÓrajegy ára\, kedvezmények:3000 Ft/ alkalom/ család13 000 Ft/ 5 alkalom/ család \n\n\n\n\n\n\n\nA programváltoztatás jogát fenntartjuk.
URL:https://maraikult.hu/esemeny/kerekito-foglalkozas-doczi-gyumbier-timivel-3-2-2-3-2-2/2026-05-19/
LOCATION:Márai Sándor Művelődési Ház\, 1013 Budapest\, Krisztina tér 1.
CATEGORIES:Márai Sándor Művelődési Ház
ATTACH;FMTTYPE=image/webp:https://maraikult.hu/wp-content/uploads/2025/04/kerekito.webp
END:VEVENT
BEGIN:VEVENT
DTSTART;TZID=Europe/Budapest:20260526T093000
DTEND;TZID=Europe/Budapest:20260526T110000
DTSTAMP:20260426T020744
CREATED:20260401T104552Z
LAST-MODIFIED:20260401T104553Z
UID:10007961-1779787800-1779793200@maraikult.hu
SUMMARY:Kerekítő foglalkozás Dóczi-Gyumbier Timivel
DESCRIPTION:Kerekítő Mondókázó (0-3 év)Minden kedd 9:30-10:00 \n\n\n\n\n\nÖlbéli játékok a Kerekítő mondókáskönyv-sorozat játékai nyomán\, hangszerjátékkal\, dalokkal. Kalandozás a lovagoltatók\, csiklandozók\, reptetők\, cirókázók\, lógáztatók világában. Nagymamáinktól örökölt játéktárunk az érzelmi biztonság és a művészeti nevelés bölcsője. Az első évek mondókáinak szeretetnyelve az érintés\, ölelés és mosoly egy életen át elkíséri a gyermekeket. \n\n\n\n\n\nKerekítő Manó Torna (1-3 év) Minden kedd 10:15-11:00 \n\n\n\n\n\nÖlbéli játékok a Kerekítő mondókáskönyv-sorozat játékai nyomán\, Kerekítő Manó bábjelenetivel\, labdás ejtőernyőzéssel és tornaszeres játéktérrel tarkítva. Nagymamáinktól örökölt játéktárunk az érzelmi biztonság és a művészeti nevelés bölcsője. Az első évek mondókáinak szeretetnyelve az érintés\, ölelés és mosoly egy életen át elkíséri a gyermekeket. \n\n\n\nVezeti: Dóczi-Gyumbier Timi \nElérhetőség\, bejelentkezés: timea.gyumbier@gmail.com –  www.kerekito.hu \n\n\n\nA csoportokhoz folyamatosan lehet csatlakozni. \n\n\n\nÓrajegy ára\, kedvezmények:3000 Ft/ alkalom/ család13 000 Ft/ 5 alkalom/ család \n\n\n\n\n\n\n\nA programváltoztatás jogát fenntartjuk.
URL:https://maraikult.hu/esemeny/kerekito-foglalkozas-doczi-gyumbier-timivel-3-2-2-3-2-2/2026-05-26/
LOCATION:Márai Sándor Művelődési Ház\, 1013 Budapest\, Krisztina tér 1.
CATEGORIES:Márai Sándor Művelődési Ház
ATTACH;FMTTYPE=image/webp:https://maraikult.hu/wp-content/uploads/2025/04/kerekito.webp
END:VEVENT
END:VCALENDAR