BEGIN:VCALENDAR
VERSION:2.0
PRODID:-//MáraiKult - ECPv6.15.20//NONSGML v1.0//EN
CALSCALE:GREGORIAN
METHOD:PUBLISH
X-WR-CALNAME:MáraiKult
X-ORIGINAL-URL:https://maraikult.hu
X-WR-CALDESC:Események MáraiKult
REFRESH-INTERVAL;VALUE=DURATION:PT1H
X-Robots-Tag:noindex
X-PUBLISHED-TTL:PT1H
BEGIN:VTIMEZONE
TZID:Europe/Budapest
BEGIN:DAYLIGHT
TZOFFSETFROM:+0100
TZOFFSETTO:+0200
TZNAME:CEST
DTSTART:20250330T010000
END:DAYLIGHT
BEGIN:STANDARD
TZOFFSETFROM:+0200
TZOFFSETTO:+0100
TZNAME:CET
DTSTART:20251026T010000
END:STANDARD
BEGIN:DAYLIGHT
TZOFFSETFROM:+0100
TZOFFSETTO:+0200
TZNAME:CEST
DTSTART:20260329T010000
END:DAYLIGHT
BEGIN:STANDARD
TZOFFSETFROM:+0200
TZOFFSETTO:+0100
TZNAME:CET
DTSTART:20261025T010000
END:STANDARD
BEGIN:DAYLIGHT
TZOFFSETFROM:+0100
TZOFFSETTO:+0200
TZNAME:CEST
DTSTART:20270328T010000
END:DAYLIGHT
BEGIN:STANDARD
TZOFFSETFROM:+0200
TZOFFSETTO:+0100
TZNAME:CET
DTSTART:20271031T010000
END:STANDARD
END:VTIMEZONE
BEGIN:VEVENT
DTSTART;TZID=Europe/Budapest:20260430T183000
DTEND;TZID=Europe/Budapest:20260430T193000
DTSTAMP:20260424T162533
CREATED:20260113T150740Z
LAST-MODIFIED:20260417T095139Z
UID:10008465-1777573800-1777577400@maraikult.hu
SUMMARY:Hatha jóga 40+
DESCRIPTION:Minden ember megérdemli a testi-lelki nyugalmat\, az erőt\, amit megkaphat a jóga gyakorlása által. A követők idős korban is hajlékony\, egészséges testnek örvendhetnek. \nA test a lélek temploma\, vigyázni kell rá! \nIdőpont: minden csütörtök 18:30-19:30 \nRészvételi díj: 2 000 FtKedvezményes belépő I. kerületieknek: 1 000 Ft \nElérhetőség: Hidvégi Eszter +36 30 971 0055 \nRendezvényünkön kép- és hangfelvétel készülhet\, melyet weboldalunkon és közösségimédia-felületeinken is felhasználhatunk!\nA műsorváltoztatás jogát fenntartjuk! 
URL:https://maraikult.hu/esemeny/hatha-joga-40/2026-04-30/
LOCATION:Márai Sándor Művelődési Ház\, 1013 Budapest\, Krisztina tér 1.
CATEGORIES:Márai Sándor Művelődési Ház
ATTACH;FMTTYPE=image/png:https://maraikult.hu/wp-content/uploads/2025/04/Allando_Maraikult_Hatha-joga-40_web.png
END:VEVENT
BEGIN:VEVENT
DTSTART;TZID=Europe/Budapest:20260507T183000
DTEND;TZID=Europe/Budapest:20260507T193000
DTSTAMP:20260424T162533
CREATED:20260113T150740Z
LAST-MODIFIED:20260417T095139Z
UID:10008466-1778178600-1778182200@maraikult.hu
SUMMARY:Hatha jóga 40+
DESCRIPTION:Minden ember megérdemli a testi-lelki nyugalmat\, az erőt\, amit megkaphat a jóga gyakorlása által. A követők idős korban is hajlékony\, egészséges testnek örvendhetnek. \nA test a lélek temploma\, vigyázni kell rá! \nIdőpont: minden csütörtök 18:30-19:30 \nRészvételi díj: 2 000 FtKedvezményes belépő I. kerületieknek: 1 000 Ft \nElérhetőség: Hidvégi Eszter +36 30 971 0055 \nRendezvényünkön kép- és hangfelvétel készülhet\, melyet weboldalunkon és közösségimédia-felületeinken is felhasználhatunk!\nA műsorváltoztatás jogát fenntartjuk! 
URL:https://maraikult.hu/esemeny/hatha-joga-40/2026-05-07/
LOCATION:Márai Sándor Művelődési Ház\, 1013 Budapest\, Krisztina tér 1.
CATEGORIES:Márai Sándor Művelődési Ház
ATTACH;FMTTYPE=image/png:https://maraikult.hu/wp-content/uploads/2025/04/Allando_Maraikult_Hatha-joga-40_web.png
END:VEVENT
BEGIN:VEVENT
DTSTART;TZID=Europe/Budapest:20260514T183000
DTEND;TZID=Europe/Budapest:20260514T193000
DTSTAMP:20260424T162533
CREATED:20260113T150740Z
LAST-MODIFIED:20260417T095139Z
UID:10008467-1778783400-1778787000@maraikult.hu
SUMMARY:Hatha jóga 40+
DESCRIPTION:Minden ember megérdemli a testi-lelki nyugalmat\, az erőt\, amit megkaphat a jóga gyakorlása által. A követők idős korban is hajlékony\, egészséges testnek örvendhetnek. \nA test a lélek temploma\, vigyázni kell rá! \nIdőpont: minden csütörtök 18:30-19:30 \nRészvételi díj: 2 000 FtKedvezményes belépő I. kerületieknek: 1 000 Ft \nElérhetőség: Hidvégi Eszter +36 30 971 0055 \nRendezvényünkön kép- és hangfelvétel készülhet\, melyet weboldalunkon és közösségimédia-felületeinken is felhasználhatunk!\nA műsorváltoztatás jogát fenntartjuk! 
URL:https://maraikult.hu/esemeny/hatha-joga-40/2026-05-14/
LOCATION:Márai Sándor Művelődési Ház\, 1013 Budapest\, Krisztina tér 1.
CATEGORIES:Márai Sándor Művelődési Ház
ATTACH;FMTTYPE=image/png:https://maraikult.hu/wp-content/uploads/2025/04/Allando_Maraikult_Hatha-joga-40_web.png
END:VEVENT
BEGIN:VEVENT
DTSTART;TZID=Europe/Budapest:20260521T183000
DTEND;TZID=Europe/Budapest:20260521T193000
DTSTAMP:20260424T162533
CREATED:20260113T150740Z
LAST-MODIFIED:20260417T095139Z
UID:10008468-1779388200-1779391800@maraikult.hu
SUMMARY:Hatha jóga 40+
DESCRIPTION:Minden ember megérdemli a testi-lelki nyugalmat\, az erőt\, amit megkaphat a jóga gyakorlása által. A követők idős korban is hajlékony\, egészséges testnek örvendhetnek. \nA test a lélek temploma\, vigyázni kell rá! \nIdőpont: minden csütörtök 18:30-19:30 \nRészvételi díj: 2 000 FtKedvezményes belépő I. kerületieknek: 1 000 Ft \nElérhetőség: Hidvégi Eszter +36 30 971 0055 \nRendezvényünkön kép- és hangfelvétel készülhet\, melyet weboldalunkon és közösségimédia-felületeinken is felhasználhatunk!\nA műsorváltoztatás jogát fenntartjuk! 
URL:https://maraikult.hu/esemeny/hatha-joga-40/2026-05-21/
LOCATION:Márai Sándor Művelődési Ház\, 1013 Budapest\, Krisztina tér 1.
CATEGORIES:Márai Sándor Művelődési Ház
ATTACH;FMTTYPE=image/png:https://maraikult.hu/wp-content/uploads/2025/04/Allando_Maraikult_Hatha-joga-40_web.png
END:VEVENT
BEGIN:VEVENT
DTSTART;TZID=Europe/Budapest:20260528T183000
DTEND;TZID=Europe/Budapest:20260528T193000
DTSTAMP:20260424T162533
CREATED:20260113T150740Z
LAST-MODIFIED:20260417T095139Z
UID:10008469-1779993000-1779996600@maraikult.hu
SUMMARY:Hatha jóga 40+
DESCRIPTION:Minden ember megérdemli a testi-lelki nyugalmat\, az erőt\, amit megkaphat a jóga gyakorlása által. A követők idős korban is hajlékony\, egészséges testnek örvendhetnek. \nA test a lélek temploma\, vigyázni kell rá! \nIdőpont: minden csütörtök 18:30-19:30 \nRészvételi díj: 2 000 FtKedvezményes belépő I. kerületieknek: 1 000 Ft \nElérhetőség: Hidvégi Eszter +36 30 971 0055 \nRendezvényünkön kép- és hangfelvétel készülhet\, melyet weboldalunkon és közösségimédia-felületeinken is felhasználhatunk!\nA műsorváltoztatás jogát fenntartjuk! 
URL:https://maraikult.hu/esemeny/hatha-joga-40/2026-05-28/
LOCATION:Márai Sándor Művelődési Ház\, 1013 Budapest\, Krisztina tér 1.
CATEGORIES:Márai Sándor Művelődési Ház
ATTACH;FMTTYPE=image/png:https://maraikult.hu/wp-content/uploads/2025/04/Allando_Maraikult_Hatha-joga-40_web.png
END:VEVENT
END:VCALENDAR