BEGIN:VCALENDAR
VERSION:2.0
PRODID:-//MáraiKult - ECPv6.15.20//NONSGML v1.0//EN
CALSCALE:GREGORIAN
METHOD:PUBLISH
X-WR-CALNAME:MáraiKult
X-ORIGINAL-URL:https://maraikult.hu
X-WR-CALDESC:Események MáraiKult
REFRESH-INTERVAL;VALUE=DURATION:PT1H
X-Robots-Tag:noindex
X-PUBLISHED-TTL:PT1H
BEGIN:VTIMEZONE
TZID:Europe/Budapest
BEGIN:DAYLIGHT
TZOFFSETFROM:+0100
TZOFFSETTO:+0200
TZNAME:CEST
DTSTART:20250330T010000
END:DAYLIGHT
BEGIN:STANDARD
TZOFFSETFROM:+0200
TZOFFSETTO:+0100
TZNAME:CET
DTSTART:20251026T010000
END:STANDARD
BEGIN:DAYLIGHT
TZOFFSETFROM:+0100
TZOFFSETTO:+0200
TZNAME:CEST
DTSTART:20260329T010000
END:DAYLIGHT
BEGIN:STANDARD
TZOFFSETFROM:+0200
TZOFFSETTO:+0100
TZNAME:CET
DTSTART:20261025T010000
END:STANDARD
BEGIN:DAYLIGHT
TZOFFSETFROM:+0100
TZOFFSETTO:+0200
TZNAME:CEST
DTSTART:20270328T010000
END:DAYLIGHT
BEGIN:STANDARD
TZOFFSETFROM:+0200
TZOFFSETTO:+0100
TZNAME:CET
DTSTART:20271031T010000
END:STANDARD
END:VTIMEZONE
BEGIN:VEVENT
DTSTART;TZID=Europe/Budapest:20260420T170000
DTEND;TZID=Europe/Budapest:20260420T180000
DTSTAMP:20260420T004544
CREATED:20260416T142538Z
LAST-MODIFIED:20260416T145501Z
UID:10008699-1776704400-1776708000@maraikult.hu
SUMMARY:Agyagozás gyerekeknek
DESCRIPTION:A foglalkozást Sztankay Bedők Bea keramikusművész vezeti. A részvétel négyéves kortól ajánlott. \nMinden hétfő 17.00-18.00 \nBelépő: 2500 Ft/ alkalom \nElérhetőség: info@lilisuli.hu\, +36 30 982 0392
URL:https://maraikult.hu/esemeny/agyagozas-gyerekeknek/2026-04-20/
LOCATION:Vízivárosi Klub\, 1015 Budapest\, Batthyány utca 26.
CATEGORIES:Vízivárosi Klub
ATTACH;FMTTYPE=image/png:https://maraikult.hu/wp-content/uploads/2025/04/Allando_Vizivarosi-Klub_Agyagozas-gyerekeknek_web.png
END:VEVENT
BEGIN:VEVENT
DTSTART;TZID=Europe/Budapest:20260427T170000
DTEND;TZID=Europe/Budapest:20260427T180000
DTSTAMP:20260420T004544
CREATED:20260416T142538Z
LAST-MODIFIED:20260416T145501Z
UID:10008700-1777309200-1777312800@maraikult.hu
SUMMARY:Agyagozás gyerekeknek
DESCRIPTION:A foglalkozást Sztankay Bedők Bea keramikusművész vezeti. A részvétel négyéves kortól ajánlott. \nMinden hétfő 17.00-18.00 \nBelépő: 2500 Ft/ alkalom \nElérhetőség: info@lilisuli.hu\, +36 30 982 0392
URL:https://maraikult.hu/esemeny/agyagozas-gyerekeknek/2026-04-27/
LOCATION:Vízivárosi Klub\, 1015 Budapest\, Batthyány utca 26.
CATEGORIES:Vízivárosi Klub
ATTACH;FMTTYPE=image/png:https://maraikult.hu/wp-content/uploads/2025/04/Allando_Vizivarosi-Klub_Agyagozas-gyerekeknek_web.png
END:VEVENT
BEGIN:VEVENT
DTSTART;TZID=Europe/Budapest:20260504T170000
DTEND;TZID=Europe/Budapest:20260504T180000
DTSTAMP:20260420T004544
CREATED:20260416T142538Z
LAST-MODIFIED:20260416T145501Z
UID:10008701-1777914000-1777917600@maraikult.hu
SUMMARY:Agyagozás gyerekeknek
DESCRIPTION:A foglalkozást Sztankay Bedők Bea keramikusművész vezeti. A részvétel négyéves kortól ajánlott. \nMinden hétfő 17.00-18.00 \nBelépő: 2500 Ft/ alkalom \nElérhetőség: info@lilisuli.hu\, +36 30 982 0392
URL:https://maraikult.hu/esemeny/agyagozas-gyerekeknek/2026-05-04/
LOCATION:Vízivárosi Klub\, 1015 Budapest\, Batthyány utca 26.
CATEGORIES:Vízivárosi Klub
ATTACH;FMTTYPE=image/png:https://maraikult.hu/wp-content/uploads/2025/04/Allando_Vizivarosi-Klub_Agyagozas-gyerekeknek_web.png
END:VEVENT
BEGIN:VEVENT
DTSTART;TZID=Europe/Budapest:20260511T170000
DTEND;TZID=Europe/Budapest:20260511T180000
DTSTAMP:20260420T004544
CREATED:20260416T142538Z
LAST-MODIFIED:20260416T145501Z
UID:10008702-1778518800-1778522400@maraikult.hu
SUMMARY:Agyagozás gyerekeknek
DESCRIPTION:A foglalkozást Sztankay Bedők Bea keramikusművész vezeti. A részvétel négyéves kortól ajánlott. \nMinden hétfő 17.00-18.00 \nBelépő: 2500 Ft/ alkalom \nElérhetőség: info@lilisuli.hu\, +36 30 982 0392
URL:https://maraikult.hu/esemeny/agyagozas-gyerekeknek/2026-05-11/
LOCATION:Vízivárosi Klub\, 1015 Budapest\, Batthyány utca 26.
CATEGORIES:Vízivárosi Klub
ATTACH;FMTTYPE=image/png:https://maraikult.hu/wp-content/uploads/2025/04/Allando_Vizivarosi-Klub_Agyagozas-gyerekeknek_web.png
END:VEVENT
BEGIN:VEVENT
DTSTART;TZID=Europe/Budapest:20260518T170000
DTEND;TZID=Europe/Budapest:20260518T180000
DTSTAMP:20260420T004544
CREATED:20260416T142538Z
LAST-MODIFIED:20260416T145501Z
UID:10008703-1779123600-1779127200@maraikult.hu
SUMMARY:Agyagozás gyerekeknek
DESCRIPTION:A foglalkozást Sztankay Bedők Bea keramikusművész vezeti. A részvétel négyéves kortól ajánlott. \nMinden hétfő 17.00-18.00 \nBelépő: 2500 Ft/ alkalom \nElérhetőség: info@lilisuli.hu\, +36 30 982 0392
URL:https://maraikult.hu/esemeny/agyagozas-gyerekeknek/2026-05-18/
LOCATION:Vízivárosi Klub\, 1015 Budapest\, Batthyány utca 26.
CATEGORIES:Vízivárosi Klub
ATTACH;FMTTYPE=image/png:https://maraikult.hu/wp-content/uploads/2025/04/Allando_Vizivarosi-Klub_Agyagozas-gyerekeknek_web.png
END:VEVENT
BEGIN:VEVENT
DTSTART;TZID=Europe/Budapest:20260525T170000
DTEND;TZID=Europe/Budapest:20260525T180000
DTSTAMP:20260420T004544
CREATED:20260416T142538Z
LAST-MODIFIED:20260416T145501Z
UID:10008704-1779728400-1779732000@maraikult.hu
SUMMARY:Agyagozás gyerekeknek
DESCRIPTION:A foglalkozást Sztankay Bedők Bea keramikusművész vezeti. A részvétel négyéves kortól ajánlott. \nMinden hétfő 17.00-18.00 \nBelépő: 2500 Ft/ alkalom \nElérhetőség: info@lilisuli.hu\, +36 30 982 0392
URL:https://maraikult.hu/esemeny/agyagozas-gyerekeknek/2026-05-25/
LOCATION:Vízivárosi Klub\, 1015 Budapest\, Batthyány utca 26.
CATEGORIES:Vízivárosi Klub
ATTACH;FMTTYPE=image/png:https://maraikult.hu/wp-content/uploads/2025/04/Allando_Vizivarosi-Klub_Agyagozas-gyerekeknek_web.png
END:VEVENT
BEGIN:VEVENT
DTSTART;TZID=Europe/Budapest:20260601T170000
DTEND;TZID=Europe/Budapest:20260601T180000
DTSTAMP:20260420T004544
CREATED:20260416T142538Z
LAST-MODIFIED:20260416T145501Z
UID:10008705-1780333200-1780336800@maraikult.hu
SUMMARY:Agyagozás gyerekeknek
DESCRIPTION:A foglalkozást Sztankay Bedők Bea keramikusművész vezeti. A részvétel négyéves kortól ajánlott. \nMinden hétfő 17.00-18.00 \nBelépő: 2500 Ft/ alkalom \nElérhetőség: info@lilisuli.hu\, +36 30 982 0392
URL:https://maraikult.hu/esemeny/agyagozas-gyerekeknek/2026-06-01/
LOCATION:Vízivárosi Klub\, 1015 Budapest\, Batthyány utca 26.
CATEGORIES:Vízivárosi Klub
ATTACH;FMTTYPE=image/png:https://maraikult.hu/wp-content/uploads/2025/04/Allando_Vizivarosi-Klub_Agyagozas-gyerekeknek_web.png
END:VEVENT
BEGIN:VEVENT
DTSTART;TZID=Europe/Budapest:20260608T170000
DTEND;TZID=Europe/Budapest:20260608T180000
DTSTAMP:20260420T004544
CREATED:20260416T142538Z
LAST-MODIFIED:20260416T145501Z
UID:10008706-1780938000-1780941600@maraikult.hu
SUMMARY:Agyagozás gyerekeknek
DESCRIPTION:A foglalkozást Sztankay Bedők Bea keramikusművész vezeti. A részvétel négyéves kortól ajánlott. \nMinden hétfő 17.00-18.00 \nBelépő: 2500 Ft/ alkalom \nElérhetőség: info@lilisuli.hu\, +36 30 982 0392
URL:https://maraikult.hu/esemeny/agyagozas-gyerekeknek/2026-06-08/
LOCATION:Vízivárosi Klub\, 1015 Budapest\, Batthyány utca 26.
CATEGORIES:Vízivárosi Klub
ATTACH;FMTTYPE=image/png:https://maraikult.hu/wp-content/uploads/2025/04/Allando_Vizivarosi-Klub_Agyagozas-gyerekeknek_web.png
END:VEVENT
BEGIN:VEVENT
DTSTART;TZID=Europe/Budapest:20260615T170000
DTEND;TZID=Europe/Budapest:20260615T180000
DTSTAMP:20260420T004544
CREATED:20260416T142538Z
LAST-MODIFIED:20260416T145501Z
UID:10008707-1781542800-1781546400@maraikult.hu
SUMMARY:Agyagozás gyerekeknek
DESCRIPTION:A foglalkozást Sztankay Bedők Bea keramikusművész vezeti. A részvétel négyéves kortól ajánlott. \nMinden hétfő 17.00-18.00 \nBelépő: 2500 Ft/ alkalom \nElérhetőség: info@lilisuli.hu\, +36 30 982 0392
URL:https://maraikult.hu/esemeny/agyagozas-gyerekeknek/2026-06-15/
LOCATION:Vízivárosi Klub\, 1015 Budapest\, Batthyány utca 26.
CATEGORIES:Vízivárosi Klub
ATTACH;FMTTYPE=image/png:https://maraikult.hu/wp-content/uploads/2025/04/Allando_Vizivarosi-Klub_Agyagozas-gyerekeknek_web.png
END:VEVENT
BEGIN:VEVENT
DTSTART;TZID=Europe/Budapest:20260622T170000
DTEND;TZID=Europe/Budapest:20260622T180000
DTSTAMP:20260420T004544
CREATED:20260416T142538Z
LAST-MODIFIED:20260416T145501Z
UID:10008708-1782147600-1782151200@maraikult.hu
SUMMARY:Agyagozás gyerekeknek
DESCRIPTION:A foglalkozást Sztankay Bedők Bea keramikusművész vezeti. A részvétel négyéves kortól ajánlott. \nMinden hétfő 17.00-18.00 \nBelépő: 2500 Ft/ alkalom \nElérhetőség: info@lilisuli.hu\, +36 30 982 0392
URL:https://maraikult.hu/esemeny/agyagozas-gyerekeknek/2026-06-22/
LOCATION:Vízivárosi Klub\, 1015 Budapest\, Batthyány utca 26.
CATEGORIES:Vízivárosi Klub
ATTACH;FMTTYPE=image/png:https://maraikult.hu/wp-content/uploads/2025/04/Allando_Vizivarosi-Klub_Agyagozas-gyerekeknek_web.png
END:VEVENT
BEGIN:VEVENT
DTSTART;TZID=Europe/Budapest:20260629T170000
DTEND;TZID=Europe/Budapest:20260629T180000
DTSTAMP:20260420T004544
CREATED:20260416T142538Z
LAST-MODIFIED:20260416T145501Z
UID:10008709-1782752400-1782756000@maraikult.hu
SUMMARY:Agyagozás gyerekeknek
DESCRIPTION:A foglalkozást Sztankay Bedők Bea keramikusművész vezeti. A részvétel négyéves kortól ajánlott. \nMinden hétfő 17.00-18.00 \nBelépő: 2500 Ft/ alkalom \nElérhetőség: info@lilisuli.hu\, +36 30 982 0392
URL:https://maraikult.hu/esemeny/agyagozas-gyerekeknek/2026-06-29/
LOCATION:Vízivárosi Klub\, 1015 Budapest\, Batthyány utca 26.
CATEGORIES:Vízivárosi Klub
ATTACH;FMTTYPE=image/png:https://maraikult.hu/wp-content/uploads/2025/04/Allando_Vizivarosi-Klub_Agyagozas-gyerekeknek_web.png
END:VEVENT
END:VCALENDAR