BEGIN:VCALENDAR
VERSION:2.0
PRODID:-//MáraiKult - ECPv6.15.20//NONSGML v1.0//EN
CALSCALE:GREGORIAN
METHOD:PUBLISH
X-WR-CALNAME:MáraiKult
X-ORIGINAL-URL:https://maraikult.hu
X-WR-CALDESC:Események MáraiKult
REFRESH-INTERVAL;VALUE=DURATION:PT1H
X-Robots-Tag:noindex
X-PUBLISHED-TTL:PT1H
BEGIN:VTIMEZONE
TZID:Europe/Budapest
BEGIN:DAYLIGHT
TZOFFSETFROM:+0100
TZOFFSETTO:+0200
TZNAME:CEST
DTSTART:20250330T010000
END:DAYLIGHT
BEGIN:STANDARD
TZOFFSETFROM:+0200
TZOFFSETTO:+0100
TZNAME:CET
DTSTART:20251026T010000
END:STANDARD
BEGIN:DAYLIGHT
TZOFFSETFROM:+0100
TZOFFSETTO:+0200
TZNAME:CEST
DTSTART:20260329T010000
END:DAYLIGHT
BEGIN:STANDARD
TZOFFSETFROM:+0200
TZOFFSETTO:+0100
TZNAME:CET
DTSTART:20261025T010000
END:STANDARD
BEGIN:DAYLIGHT
TZOFFSETFROM:+0100
TZOFFSETTO:+0200
TZNAME:CEST
DTSTART:20270328T010000
END:DAYLIGHT
BEGIN:STANDARD
TZOFFSETFROM:+0200
TZOFFSETTO:+0100
TZNAME:CET
DTSTART:20271031T010000
END:STANDARD
END:VTIMEZONE
BEGIN:VEVENT
DTSTART;TZID=Europe/Budapest:20260502T093000
DTEND;TZID=Europe/Budapest:20260502T123000
DTSTAMP:20260419T162859
CREATED:20260416T143043Z
LAST-MODIFIED:20260416T143125Z
UID:10008961-1777714200-1777725000@maraikult.hu
SUMMARY:Színkópé - színjátszó- és drámafoglalkozás
DESCRIPTION:A Színkópé olyan fejlesztő színjátszó- és drámafoglalkozás\, amelyen a gyermek személyisége fejlődik\, kreativitása pedig teret talál. \nMinden páros szombat 9.30-12.30 \nBelépő: 6500 Ft\nTestvérkedvezmény: 6000 Ft \nElérhetőség: Patocskai Katalin\, patocskaikatalin@gmail.com
URL:https://maraikult.hu/esemeny/szinkope-szinjatszo-es-dramafoglalkozas/2026-05-02/
LOCATION:Vízivárosi Klub\, 1015 Budapest\, Batthyány utca 26.
CATEGORIES:Vízivárosi Klub
ATTACH;FMTTYPE=image/webp:https://maraikult.hu/wp-content/uploads/2025/04/szinkope-web.webp
END:VEVENT
BEGIN:VEVENT
DTSTART;TZID=Europe/Budapest:20260516T093000
DTEND;TZID=Europe/Budapest:20260516T123000
DTSTAMP:20260419T162859
CREATED:20260416T143043Z
LAST-MODIFIED:20260416T143125Z
UID:10008962-1778923800-1778934600@maraikult.hu
SUMMARY:Színkópé - színjátszó- és drámafoglalkozás
DESCRIPTION:A Színkópé olyan fejlesztő színjátszó- és drámafoglalkozás\, amelyen a gyermek személyisége fejlődik\, kreativitása pedig teret talál. \nMinden páros szombat 9.30-12.30 \nBelépő: 6500 Ft\nTestvérkedvezmény: 6000 Ft \nElérhetőség: Patocskai Katalin\, patocskaikatalin@gmail.com
URL:https://maraikult.hu/esemeny/szinkope-szinjatszo-es-dramafoglalkozas/2026-05-16/
LOCATION:Vízivárosi Klub\, 1015 Budapest\, Batthyány utca 26.
CATEGORIES:Vízivárosi Klub
ATTACH;FMTTYPE=image/webp:https://maraikult.hu/wp-content/uploads/2025/04/szinkope-web.webp
END:VEVENT
BEGIN:VEVENT
DTSTART;TZID=Europe/Budapest:20260530T093000
DTEND;TZID=Europe/Budapest:20260530T123000
DTSTAMP:20260419T162859
CREATED:20260416T143043Z
LAST-MODIFIED:20260416T143125Z
UID:10008963-1780133400-1780144200@maraikult.hu
SUMMARY:Színkópé - színjátszó- és drámafoglalkozás
DESCRIPTION:A Színkópé olyan fejlesztő színjátszó- és drámafoglalkozás\, amelyen a gyermek személyisége fejlődik\, kreativitása pedig teret talál. \nMinden páros szombat 9.30-12.30 \nBelépő: 6500 Ft\nTestvérkedvezmény: 6000 Ft \nElérhetőség: Patocskai Katalin\, patocskaikatalin@gmail.com
URL:https://maraikult.hu/esemeny/szinkope-szinjatszo-es-dramafoglalkozas/2026-05-30/
LOCATION:Vízivárosi Klub\, 1015 Budapest\, Batthyány utca 26.
CATEGORIES:Vízivárosi Klub
ATTACH;FMTTYPE=image/webp:https://maraikult.hu/wp-content/uploads/2025/04/szinkope-web.webp
END:VEVENT
BEGIN:VEVENT
DTSTART;TZID=Europe/Budapest:20260613T093000
DTEND;TZID=Europe/Budapest:20260613T123000
DTSTAMP:20260419T162859
CREATED:20260416T143043Z
LAST-MODIFIED:20260416T143125Z
UID:10008964-1781343000-1781353800@maraikult.hu
SUMMARY:Színkópé - színjátszó- és drámafoglalkozás
DESCRIPTION:A Színkópé olyan fejlesztő színjátszó- és drámafoglalkozás\, amelyen a gyermek személyisége fejlődik\, kreativitása pedig teret talál. \nMinden páros szombat 9.30-12.30 \nBelépő: 6500 Ft\nTestvérkedvezmény: 6000 Ft \nElérhetőség: Patocskai Katalin\, patocskaikatalin@gmail.com
URL:https://maraikult.hu/esemeny/szinkope-szinjatszo-es-dramafoglalkozas/2026-06-13/
LOCATION:Vízivárosi Klub\, 1015 Budapest\, Batthyány utca 26.
CATEGORIES:Vízivárosi Klub
ATTACH;FMTTYPE=image/webp:https://maraikult.hu/wp-content/uploads/2025/04/szinkope-web.webp
END:VEVENT
BEGIN:VEVENT
DTSTART;TZID=Europe/Budapest:20260627T093000
DTEND;TZID=Europe/Budapest:20260627T123000
DTSTAMP:20260419T162859
CREATED:20260416T143043Z
LAST-MODIFIED:20260416T143125Z
UID:10008965-1782552600-1782563400@maraikult.hu
SUMMARY:Színkópé - színjátszó- és drámafoglalkozás
DESCRIPTION:A Színkópé olyan fejlesztő színjátszó- és drámafoglalkozás\, amelyen a gyermek személyisége fejlődik\, kreativitása pedig teret talál. \nMinden páros szombat 9.30-12.30 \nBelépő: 6500 Ft\nTestvérkedvezmény: 6000 Ft \nElérhetőség: Patocskai Katalin\, patocskaikatalin@gmail.com
URL:https://maraikult.hu/esemeny/szinkope-szinjatszo-es-dramafoglalkozas/2026-06-27/
LOCATION:Vízivárosi Klub\, 1015 Budapest\, Batthyány utca 26.
CATEGORIES:Vízivárosi Klub
ATTACH;FMTTYPE=image/webp:https://maraikult.hu/wp-content/uploads/2025/04/szinkope-web.webp
END:VEVENT
END:VCALENDAR